BEGIN:VCALENDAR
VERSION:2.0
PRODID:-//schaefer-bettin.de - ECPv6.15.20//NONSGML v1.0//EN
CALSCALE:GREGORIAN
METHOD:PUBLISH
X-ORIGINAL-URL:https://schaefer-bettin.de
X-WR-CALDESC:Veranstaltungen für schaefer-bettin.de
REFRESH-INTERVAL;VALUE=DURATION:PT1H
X-Robots-Tag:noindex
X-PUBLISHED-TTL:PT1H
BEGIN:VTIMEZONE
TZID:Europe/Berlin
BEGIN:DAYLIGHT
TZOFFSETFROM:+0100
TZOFFSETTO:+0200
TZNAME:CEST
DTSTART:20240331T010000
END:DAYLIGHT
BEGIN:STANDARD
TZOFFSETFROM:+0200
TZOFFSETTO:+0100
TZNAME:CET
DTSTART:20241027T010000
END:STANDARD
BEGIN:DAYLIGHT
TZOFFSETFROM:+0100
TZOFFSETTO:+0200
TZNAME:CEST
DTSTART:20250330T010000
END:DAYLIGHT
BEGIN:STANDARD
TZOFFSETFROM:+0200
TZOFFSETTO:+0100
TZNAME:CET
DTSTART:20251026T010000
END:STANDARD
BEGIN:DAYLIGHT
TZOFFSETFROM:+0100
TZOFFSETTO:+0200
TZNAME:CEST
DTSTART:20260329T010000
END:DAYLIGHT
BEGIN:STANDARD
TZOFFSETFROM:+0200
TZOFFSETTO:+0100
TZNAME:CET
DTSTART:20261025T010000
END:STANDARD
END:VTIMEZONE
BEGIN:VEVENT
DTSTART;TZID=Europe/Berlin:20251005T140000
DTEND;TZID=Europe/Berlin:20251005T170000
DTSTAMP:20260420T202549
CREATED:20250930T093210Z
LAST-MODIFIED:20250930T093210Z
UID:1273-1759672800-1759683600@schaefer-bettin.de
SUMMARY:Limesausstellung mit Vortrag
DESCRIPTION:
URL:https://schaefer-bettin.de/event/limesausstellung-mit-vortrag/
LOCATION:Heimatmuseum\, Ludwigstrasse 22\, Watzenborn-Steinberg
END:VEVENT
BEGIN:VEVENT
DTSTART;TZID=Europe/Berlin:20251018T153000
DTEND;TZID=Europe/Berlin:20251018T190000
DTSTAMP:20260420T202549
CREATED:20250930T093112Z
LAST-MODIFIED:20250930T093112Z
UID:1270-1760801400-1760814000@schaefer-bettin.de
SUMMARY:1. Mollys Familienolympiade
DESCRIPTION:
URL:https://schaefer-bettin.de/event/1-mollys-familienolympiade/
LOCATION:Klosterwaldhalle Dorf-Güll
END:VEVENT
END:VCALENDAR