BEGIN:VCALENDAR
VERSION:2.0
PRODID:-//schaefer-bettin.de - ECPv6.15.20//NONSGML v1.0//EN
CALSCALE:GREGORIAN
METHOD:PUBLISH
X-WR-CALNAME:schaefer-bettin.de
X-ORIGINAL-URL:https://schaefer-bettin.de
X-WR-CALDESC:Veranstaltungen für schaefer-bettin.de
REFRESH-INTERVAL;VALUE=DURATION:PT1H
X-Robots-Tag:noindex
X-PUBLISHED-TTL:PT1H
BEGIN:VTIMEZONE
TZID:Europe/Berlin
BEGIN:DAYLIGHT
TZOFFSETFROM:+0100
TZOFFSETTO:+0200
TZNAME:CEST
DTSTART:20250330T010000
END:DAYLIGHT
BEGIN:STANDARD
TZOFFSETFROM:+0200
TZOFFSETTO:+0100
TZNAME:CET
DTSTART:20251026T010000
END:STANDARD
BEGIN:DAYLIGHT
TZOFFSETFROM:+0100
TZOFFSETTO:+0200
TZNAME:CEST
DTSTART:20260329T010000
END:DAYLIGHT
BEGIN:STANDARD
TZOFFSETFROM:+0200
TZOFFSETTO:+0100
TZNAME:CET
DTSTART:20261025T010000
END:STANDARD
BEGIN:DAYLIGHT
TZOFFSETFROM:+0100
TZOFFSETTO:+0200
TZNAME:CEST
DTSTART:20270328T010000
END:DAYLIGHT
BEGIN:STANDARD
TZOFFSETFROM:+0200
TZOFFSETTO:+0100
TZNAME:CET
DTSTART:20271031T010000
END:STANDARD
END:VTIMEZONE
BEGIN:VEVENT
DTSTART;TZID=Europe/Berlin:20260417T200000
DTEND;TZID=Europe/Berlin:20260417T220000
DTSTAMP:20260419T181659
CREATED:20260203T092850Z
LAST-MODIFIED:20260203T092850Z
UID:1287-1776456000-1776463200@schaefer-bettin.de
SUMMARY:JHV CV 1956 "Die Mollys" Watzenborn-Steinberg
DESCRIPTION:
URL:https://schaefer-bettin.de/event/jhv-cv-1956-die-mollys-watzenborn-steinberg/
LOCATION:Grüner Baum\, Gießenerstraße 36-38\, Pohlheim\, 35415\, Germany
END:VEVENT
END:VCALENDAR