BEGIN:VCALENDAR
VERSION:2.0
PRODID:-//schaefer-bettin.de - ECPv6.15.20//NONSGML v1.0//EN
CALSCALE:GREGORIAN
METHOD:PUBLISH
X-WR-CALNAME:schaefer-bettin.de
X-ORIGINAL-URL:https://schaefer-bettin.de
X-WR-CALDESC:Veranstaltungen für schaefer-bettin.de
REFRESH-INTERVAL;VALUE=DURATION:PT1H
X-Robots-Tag:noindex
X-PUBLISHED-TTL:PT1H
BEGIN:VTIMEZONE
TZID:Europe/Berlin
BEGIN:DAYLIGHT
TZOFFSETFROM:+0100
TZOFFSETTO:+0200
TZNAME:CEST
DTSTART:20250330T010000
END:DAYLIGHT
BEGIN:STANDARD
TZOFFSETFROM:+0200
TZOFFSETTO:+0100
TZNAME:CET
DTSTART:20251026T010000
END:STANDARD
BEGIN:DAYLIGHT
TZOFFSETFROM:+0100
TZOFFSETTO:+0200
TZNAME:CEST
DTSTART:20260329T010000
END:DAYLIGHT
BEGIN:STANDARD
TZOFFSETFROM:+0200
TZOFFSETTO:+0100
TZNAME:CET
DTSTART:20261025T010000
END:STANDARD
BEGIN:DAYLIGHT
TZOFFSETFROM:+0100
TZOFFSETTO:+0200
TZNAME:CEST
DTSTART:20270328T010000
END:DAYLIGHT
BEGIN:STANDARD
TZOFFSETFROM:+0200
TZOFFSETTO:+0100
TZNAME:CET
DTSTART:20271031T010000
END:STANDARD
END:VTIMEZONE
BEGIN:VEVENT
DTSTART;TZID=Europe/Berlin:20260207T193000
DTEND;TZID=Europe/Berlin:20260207T233000
DTSTAMP:20260420T041506
CREATED:20220211T115528Z
LAST-MODIFIED:20250930T091153Z
UID:795-1770492600-1770507000@schaefer-bettin.de
SUMMARY:Prunksitzung CV "Die Mollys"
DESCRIPTION:
URL:https://schaefer-bettin.de/event/prunksitzung/
LOCATION:Volkshalle Pohlheim/Watzenborn-Steinberg
END:VEVENT
END:VCALENDAR