BEGIN:VCALENDAR
VERSION:2.0
PRODID:-//schaefer-bettin.de - ECPv6.15.20//NONSGML v1.0//EN
CALSCALE:GREGORIAN
METHOD:PUBLISH
X-ORIGINAL-URL:https://schaefer-bettin.de
X-WR-CALDESC:Veranstaltungen für schaefer-bettin.de
REFRESH-INTERVAL;VALUE=DURATION:PT1H
X-Robots-Tag:noindex
X-PUBLISHED-TTL:PT1H
BEGIN:VTIMEZONE
TZID:Europe/Berlin
BEGIN:DAYLIGHT
TZOFFSETFROM:+0100
TZOFFSETTO:+0200
TZNAME:CEST
DTSTART:20230326T010000
END:DAYLIGHT
BEGIN:STANDARD
TZOFFSETFROM:+0200
TZOFFSETTO:+0100
TZNAME:CET
DTSTART:20231029T010000
END:STANDARD
BEGIN:DAYLIGHT
TZOFFSETFROM:+0100
TZOFFSETTO:+0200
TZNAME:CEST
DTSTART:20240331T010000
END:DAYLIGHT
BEGIN:STANDARD
TZOFFSETFROM:+0200
TZOFFSETTO:+0100
TZNAME:CET
DTSTART:20241027T010000
END:STANDARD
BEGIN:DAYLIGHT
TZOFFSETFROM:+0100
TZOFFSETTO:+0200
TZNAME:CEST
DTSTART:20250330T010000
END:DAYLIGHT
BEGIN:STANDARD
TZOFFSETFROM:+0200
TZOFFSETTO:+0100
TZNAME:CET
DTSTART:20251026T010000
END:STANDARD
END:VTIMEZONE
BEGIN:VEVENT
DTSTART;TZID=Europe/Berlin:20240323T190000
DTEND;TZID=Europe/Berlin:20240323T220000
DTSTAMP:20260424T035108
CREATED:20231211T145901Z
LAST-MODIFIED:20231211T145901Z
UID:1094-1711220400-1711231200@schaefer-bettin.de
SUMMARY:Musicalaufführung "Hast du Töne"
DESCRIPTION:
URL:https://schaefer-bettin.de/event/musicalauffuehrung-hast-du-toene/
LOCATION:Lukaskirche Giessen\, Löberstrasse 4\, Giessen
END:VEVENT
END:VCALENDAR